Workbook
Name sub_663: 'Смета, Таблица 5.1'!$A$62
Name sub_664: 'Смета, Таблица 5.1'!$A$63
Name sub_665: 'Смета, Таблица 5.1'!$A$64
Name sub_666: 'Смета, Таблица 5.1'!$A$65
Name sub_667: 'Смета, Таблица 5.1'!$A$66
Name sub_668: 'Смета, Таблица 5.1'!$A$61
Name sub_669: 'Смета, Таблица 5.1'!$A$60
Name sub_670: 'Смета, Таблица 5.1'!$A$55
Name sub_671: 'Смета, Таблица 5.1'!$A$48
Name sub_672: 'Смета, Таблица 5.1'!$A$7

Sheet Перечень
B1: Перечень | F1: Перечень
F3: ТОМ I
A5: №п/п | B5: Наименование | C5: Страница | E5: №п/п | F5: Наименование | G5: Страница
A6: 1 | B6: Письмо мэрии № 3/30-6357 от 28.07.2020 | C6: 1 | E6: 1 | F6: Основные производственные показатели регулируемой организации, приложение 3.1 | G6: 1
A7: 2 | B7: Основные производственные показатели регулируемой организации, приложение 3.1 | C7: 2 | E7: 2 | F7: Расчет полезного отпуска тепловой энергии, приложение 4.1 | G7: 2
A8: 3 | B8: Расчет полезного отпуска тепловой энергии, приложение 4.1 | C8: 3 | E8: 3 | F8: Структура полезного отпуска ТЭ (мощности), приложение 4.3 | G8: 4
A9: 4 | B9: Структура полезного отпуска ТЭ (мощности), приложение 4.3 | C9: 4 | E9: 4 | F9: Расчет расхода топлива по котельным, приложение 4.4 | G9: 5
A10: 5 | B10: Расчет расхода топлива по котельным, приложение 4.4 | C10: 5 | E10: 5 | F10: Расчет баланса топлива, приложение 4.5 | G10: 6
A11: 6 | B11: Расчет баланса топлива, приложение 4.5 | C11: 6 | E11: 6 | F11: Расходы на прочие покупаемые энергетические ресурсы, приложение 4.7 | G11: 7
A12: 7 | B12: Расходы на прочие покупаемые энергетические ресурсы, приложение 4.7 | C12: 7 | E12: 7 | F12: Расходы на приобретение холодной воды и теплоносителя, приложение 4.8 | G12: 9
A13: 8 | B13: Расходы на приобретение холодной воды и теплоносителя, приложение 4.8 | C13: 8 | E13: 8 | F13: Расчет расходов на оплату труда, приложение 4.9 | G13: 10
A14: 9 | B14: Расчет расходов на оплату труда, приложение 4.9 | C14: 9 | E14: 9 | F14: Расчет амортизационных отчислений, приложение 4.10 | G14: 12
A15: 10 | B15: Расчет амортизационных отчислений, приложение 4.10 | C15: 10 | E15: 10 | F15: Смета расходов, приложение 1 | G15: 14
A16: 11 | B16: Смета расходов, приложение 1 | C16: 12 | E16: 11 | F16: Смета расходов на передачу ТЭ, приложение 1 | G16: 16
A17: 12 | B17: Смета расходов на передачу ТЭ, приложение 1 | C17: 14 | E17: 12 | F17: Смета расходов на сбыт ТЭ, приложение 1 | G17: 17
... A23: 18 | B23: Расчет необходимой валовой выручки методом индексации установленных тарифов, приложение 5.9 | C23: 21 | E23: 18 | F23: Расчет регулируемых цен (тарифов), приложение 6.1 | G23: 29
A24: 19 | B24: Расчет регулируемых цен (тарифов), приложение 6.1 | C24: 22
A27: 19 | B27: Приказ о вступлении в должность | C27: 26 | E27: 19 | F27: Устав | G27: 30
A28: 20 | B28: Решение №16 | C28: 27 | E28: 20 | F28: Свидетельства | G28: 32
A29: 21 | B29: Устав | C29: 28 | E29: 21 | F29: Сведения о тех.безопастности опасного объекта | G29: 38
A30: 22 | B30: Свидетельства | C30: 39 | E30: 22 | F30: Приказ о вступлении в должность | G30: 41
A31: 23 | B31: Сведения о тех.безопастности опасного объекта | C31: 41 | E31: 23 | F31: Решение №16 | G31: 42
A32: 24 | B32: Методика ведения раздельного учета | C32: 49 | E32: 24 | F32: Уведомление о размере страховых взносов на обязательное медицинское страхование от несчастных случаев на производстве и профессиональных заболеваний | G32: 43
A33: 25 | B33: Свидетельства | C33: 50 | E33: 25 | F33: Методика Ведения раздельного учета | G33: 45
A34: 26 | B34: Страховка | C34: 55 | E34: 26 | F34: Бухгалтерский баланс | G34: 46
A35: 27 | B35: Бухгалтерский баланс | C35: 57 | E35: 27 | F35: Страховка | G35: 51
A36: 28 | B36: Форма №22 ЖКХ | C36: 62 | E36: 28 | F36: Форма №1-46 | G36: 53
A37: 29 | B37: Форма №1-ТЕП | C37: 70 | E37: 29 | F37: Форма №1-предприятие | G37: 54
A38: 30 | B38: Форма №1-46 | C38: 79 | E38: 30 | F38: Форма №22 ЖКХ | G38: 60
... A50: 42 | B50: Договора, дополнительные соглашения со стронними организациями на выполнение работ,услуг производственного характера | C50: 123 | E50: 42 | F50: Договора, акты, счета-фактуры на выполненые работы со сторонними организациями | G50: 250
A52: 43 | B52: Договор аренды столовой, акт | C52: 140
A53: 44 | B53: Договора, контракты со сторонними потребителями ГВС и ТЭ | C53: 148
B55: Перечень | F55: Перечень
B57: ТОМ II | F57: ТОМ II
A59: №п/п | B59: Наименование | C59: Страница | E59: №п/п | F59: Наименование | G59: Страница
A60: 1 | B60: Договора, контракты со сторонними потребителями ГВС и ТЭ | C60: 226 | E60: 1 | F60: Договор электроснабжения, доп.соглашение | G60: 286
A61: 2 | B61: Перечень сторонних потребителей | C61: 271 | E61: 2 | F61: Договор поставки газа | G61: 299
A62: 3 | B62: Договор поставки газа | C62: 272 | E62: 3 | F62: Счета-фактуры, акты за воду | G62: 325
A63: 4 | B63: Счета-фактуры за газ, товарные накладные, акты и приложения | C63: 294 | E63: 4 | F63: Договор по оказанию услуг по передаче ТЭ | G63: 341
A64: 5 | B64: Договор электроснабжения | C64: 321 | E64: 5 | F64: Счета-фактуры за электрическую энергию | G64: 378
...

Sheet Таблица 3.1
A1: Приложение 3.1
A4: Основные производственные показатели регулируемой организации
A6: № | B6: Показатели | C6: Единица измерения | D6: Факт 2022 года | E6: Период регулирова-ния 2023 год | F6: Период регулирова-ния 2024 год | G6: Период регулирова-ния 2025 год | H6: Период регулирова-ния 2026 год | I6: Период регулирова-ния 2027 год
A7: п/п
A8: 1 | B8: 2 | C8: 3 | D8: 4 | G8: 5 | H8: 5 | I8: 5
A9: 1 | B9: Протяженность тепловых сетей в 2-трубном исчислении, в том числе: | C9: км | D9: 1.6 | E9: 1.6 | F9: 1.6 | G9: 1.6 | H9: 1.6 | I9: 1.6
A10: 1.1. | B10: Надземная (наземная) прокладка | C10: км | D10: 1.6 | E10: 1.6 | F10: 1.6 | G10: 1.6 | H10: 1.6 | I10: 1.6
A11: 1.1.1 | B11: 50-250 мм | C11: км | D11: 1.6 | E11: 1.6 | F11: 1.6 | G11: 1.6 | H11: 1.6 | I11: 1.6
A12: 1.1.2 | B12: 251-400 мм | C12: км
A13: 1.1.3 | B13: 401-550 мм | C13: км
A14: 1.1.4 | B14: 551-700 мм | C14: км
A15: 1.1.5 | B15: 701 мм и выше | C15: км
A16: 1.2 | B16: Подземная прокладка, в том числе: | C16: км
A17: 1.2.1 | B17: канальная прокладка | C17: км
A18: 1.2.1.1 | B18: 50-250 мм | C18: км
A19: 1.2.1.2 | B19: 251-400 мм | C19: км
A20: 1.2.1.3 | B20: 401-550 мм | C20: км
A21: 1.2.1.4 | B21: 551-700 мм | C21: км
A22: 1.2.1.5 | B22: 701 мм и выше | C22: км
A23: 1.2.2 | B23: бесканальная прокладка | C23: км
... A28: 1.2.2.5 | B28: 701 мм и выше | C28: км
A29: 2 | B29: Источники тепловой энергии с установленной генерирующей мощностью 25 МВт и более
A30: 2.1 | B30: Источник тепловой энергии 1
A31: 2.1.1 | B31: Установленная тепловая мощность 1 источника тепловой энергии | C31: Гкал/ч
A32: … | B32: и т.д.
A33: 3 | B33: Источники тепловой энергии с установленной генерирующей мощностью менее 25 МВт | D33: 1 | E33: 1 | F33: 1 | G33: 1 | H33: 1 | I33: 1
A34: 3.1. | B34: Источник тепловой энергии 1 | D34: 1 | E34: 1 | F34: 1 | G34: 1 | H34: 1 | I34: 1
A35: 3.1.1 | B35: Установленная тепловая мощность 1 источника тепловой энергии | C35: Гкал/ч | D35: 9.6 | E35: 9.6 | F35: 9.6 | G35: 9.6 | H35: 9.6 | I35: 9.6
A36: … | B36: и т.д.
A37: 4 | B37: Суммарная установленная мощность источников тепловой энергии | C37: Гкал/ч | D37: 9.6 | E37: 9.6 | F37: 9.6 | G37: 9.6 | H37: 9.6 | I37: 9.6
A38: 4.1 | B38: в т.ч. ТЭЦ 25 МВт и более | C38: Гкал/ч
A39: 4.2 | B39: ТЭЦ менее 25 МВт
A40: 4.3. | B40: котельные | C40: Гкал/ч
A41: 4.4. | B41: электробойлерные | C41: Гкал/ч
A43: Бухгалтер Сергеева Д.М.
A47: Примечание: заполняется по каждой системе теплоснабжения, если при установлении цен (тарифов) применяется такая дифференциация.

Sheet Таблица 4.1
A1: Приложение 4
A2: к Методическим указаниям
A3: утвержденным приказом ФСТ России
A4: от «13» июля 2013 г. № 760-э
A6: Формирование необходимой валовой выручки методом экономически обоснованных расходов
AJ7: Формирование необходимой валовой выручки методом экономически обоснованных расходов
A10: Расчет полезного отпуска тепловой энергии
A12: № | B12: Показатели | C12: Факт 2022 года | K12: Период регулирования 2024 год | S12: Период регулирования 2025год | AA12: Период регулирования 2026 год | AI12: Период регулирования 2027 год | AQ12: Период регулирования 2028 год
A13: п/п | C13: всего | D13: в том числе | K13: всего | L13: в том числе | S13: всего | T13: в том числе | AA13: всего | AB13: в том числе | AI13: всего | AJ13: в том числе | AQ13: всего | AR13: в том числе
D14: вода | E14: отборный пар | F14: в том числе | L14: вода | M14: отборный пар | N14: в том числе | T14: вода | U14: отборный пар | V14: в том числе | AB14: вода | AC14: отборный пар | AD14: в том числе | AJ14: вода | AK14: отборный пар | AL14: в том числе | AR14: вода | AS14: отборный пар | AT14: в том числе
F15: 1,2 - 2,5 кгс/см21,2 - 2,5 кгс/см2 | G15: 2,5 - 7,0 кгс/см22,5 - 7,0 кгс/см2 | H15: 7,0 - 13,0 кгс/см27,0 - 13,0 кгс/см2 | I15: > 13 кгс/см2> 13 кгс/см2 | J15: острый и редуциро- ванный пар | N15: 1,2 - 2,5 кгс/см21,2 - 2,5 кгс/см2 | O15: 2,5 - 7,0 кгс/см22,5 - 7,0 кгс/см2 | P15: 7,0 - 13,0 кгс/см27,0 - 13,0 кгс/см2 | Q15: > 13 кгс/см2> 13 кгс/см2 | R15: острый и редуциро- ванный пар | V15: 1,2 - 2,5 кгс/см21,2 - 2,5 кгс/см2 | W15: 2,5 - 7,0 кгс/см22,5 - 7,0 кгс/см2 | X15: 7,0 - 13,0 кгс/см27,0 - 13,0 кгс/см2 | Y15: > 13 кгс/см2> 13 кгс/см2 | Z15: острый и редуциро- ванный пар | AD15: 1,2 - 2,5 кгс/см21,2 - 2,5 кгс/см2 | AE15: 2,5 - 7,0 кгс/см22,5 - 7,0 кгс/см2 | AF15: 7,0 - 13,0 кгс/см27,0 - 13,0 кгс/см2 | AG15: > 13 кгс/см2> 13 кгс/см2 | AH15: острый и редуциро- ванный пар | AL15: 1,2 - 2,5 кгс/см21,2 - 2,5 кгс/см2 | AM15: 2,5 - 7,0 кгс/см22,5 - 7,0 кгс/см2 | AN15: 7,0 - 13,0 кгс/см27,0 - 13,0 кгс/см2 | AO15: > 13 кгс/см2> 13 кгс/см2 | AP15: острый и редуциро- ванный пар | AT15: 1,2 - 2,5 кгс/см21,2 - 2,5 кгс/см2 | AU15: 2,5 - 7,0 кгс/см22,5 - 7,0 кгс/см2 | AV15: 7,0 - 13,0 кгс/см27,0 - 13,0 кгс/см2 | AW15: > 13 кгс/см2> 13 кгс/см2 | AX15: острый и редуциро- ванный пар
A16: 1 | B16: 2 | C16: 3 | D16: 4 | E16: 4 | F16: 6 | G16: 5 | H16: 6 | I16: 6 | J16: 8 | K16: 6 | L16: 10 | M16: 7 | N16: 12 | O16: 8 | P16: 14 | Q16: 9 | R16: 16 | S16: 9 | T16: 18 | U16: 10 | V16: 12 | W16: 11 | X16: 14 | Y16: 12 | Z16: 16 | AA16: 12 | AB16: 18 | AC16: 13 | AD16: 12 | AE16: 14 | AF16: 14 | AG16: 15 | AH16: 16 | AI16: 15 | AJ16: 18 | AK16: 16 | AL16: 12 | AM16: 17 | AN16: 14 | AO16: 18 | AP16: 16 | AQ16: 18 | AR16: 18 | AS16: 19 | AT16: 12 | AU16: 20 | AV16: 14 | AW16: 21 | AX16: 18
A17: 1 | B17: Отпуск тепловой энергии, поставляемой с коллекторов источника тепловой энергии, всего | C17: 12.43 | D17: 12.43 | E17: 12.43 | F17: 12.43 | G17: 12.43 | H17: =H26+H27 -> 0 | I17: =I26+I27 -> 0 | J17: =J26+J27 -> 0 | K17: 11 | L17: =L26+L27 -> 0 | M17: =K17 -> 11 | N17: =N26+N27 -> 0 | O17: =K17 -> 11 | P17: =P26+P27 -> 0 | Q17: =Q26+Q27 -> 0 | R17: =R26+R27 -> 0 | S17: 10.95 | T17: =T26+T27 -> 0 | U17: =S17 -> 10.95 | V17: =V26+V27 -> 0.156 | W17: =S17 -> 10.95 | X17: =X26+X27 -> 0 | Y17: =Y26+Y27 -> 0 | Z17: =Z26+Z27 -> 0 | AA17: 10.9 | AB17: =AB26+AB27 -> 0 | AC17: =AA17 -> 10.9 | AD17: =AD26+AD27 -> 0 | AE17: =AA17 -> 10.9 | AF17: =AF26+AF27 -> 0 | AG17: =AG26+AG27 -> 0 | AH17: =AH26+AH27 -> 0 | AI17: 10.85 | AJ17: =AJ26+AJ27 -> 0 | AK17: =AK26+AK27 -> 10.85 | AL17: =AL26+AL27 -> 0 | AM17: =AM26+AM27 -> 10.85 | AN17: =AN26+AN27 -> 0 | AO17: =AO26+AO27 -> 0 | AP17: =AP26+AP27 -> 0 | AQ17: 10.8 | AR17: =AR26+AR27 -> 0 | AS17: =AS26+AS27 -> 10.8 | AT17: =AT26+AT27 -> 0 | AU17: =AU26+AU27 -> 10.8
B18: в том числе:
B19: - ТЭЦ 25 МВт и более
B20: - ТЭЦ менее 25 МВт
B21: - котельные | C21: =C17 -> 12.43 | D21: =D17 -> 12.43 | E21: =E17 -> 12.43 | F21: =F17 -> 12.43 | G21: =G17 -> 12.43 | K21: =K17 -> 11 | M21: =M17 -> 11 | O21: =O17 -> 11 | S21: =S17 -> 10.95 | U21: =U17 -> 10.95 | W21: =W17 -> 10.95 | AA21: =AA17 -> 10.9 | AC21: =AC17 -> 10.9 | AE21: =AE17 -> 10.9 | AI21: =AI17 -> 10.85 | AK21: =AK17 -> 10.85 | AM21: =AM17 -> 10.85 | AQ21: =AQ17 -> 10.8 | AS21: =AS17 -> 10.8 | AT21: =AT17 -> 0 | AU21: =AU17 -> 10.8
B22: - электробойлерные
A23: 2 | B23: Покупная теплоэнергия
B24: в том числе:
B25: …
A26: 3 | B26: Расход тепловой энергии на хозяйственные нужды | C26: 0.16 | E26: 0.16 | G26: 0.16 | K26: 0.158 | M26: 0.158 | O26: 0.158 | S26: 0.156 | U26: 0.156 | V26: 0.156 | W26: 0.156 | AA26: 0.154 | AC26: 0.154 | AE26: 0.154 | AI26: 0.152 | AK26: 0.152 | AM26: 0.152 | AQ26: 0.15 | AS26: 0.15 | AU26: 0.15
A27: 4 | B27: Отпуск тепловой энергии от источника тепловой энергии (полезный отпуск) | C27: =C21-C26 -> 12.27 | D27: =D21-D26 -> 12.43 | E27: =C27 -> 12.27 | F27: =F21-F26 -> 12.43 | G27: =C27 -> 12.27 | K27: =K21-K26 -> 10.842 | M27: =M28+M33 -> 10.842 | O27: =O28+O33 -> 10.842 | S27: =S21-S26 -> 10.794 | U27: =U28+U33 -> 10.794 | W27: =W28+W33 -> 10.794 | AA27: =AA21-AA26 -> 10.746 | AC27: =AC28+AC33 -> 10.746 | AD27: =AD28+AD33 -> 0 | AE27: =AE28+AE33 -> 10.746 | AF27: =AF28+AF33 -> 0 | AG27: =AG28+AG33 -> 0 | AH27: =AH28+AH33 -> 0 | AI27: =AI21-AI26 -> 10.698 | AJ27: =AJ28+AJ33 -> 0 | AK27: =AK28+AK33 -> 10.698 | AL27: =AL28+AL33 -> 0 | AM27: =AM28+AM33 -> 10.698 | AN27: =AN28+AN33 -> 0 | AO27: =AO28+AO33 -> 0 | AP27: =AP28+AP33 -> 0 | AQ27: =AQ21-AQ26 -> 10.65 | AR27: =AR28+AR33 -> 0 | AS27: =AS28+AS33 -> 10.65 | AT27: =AT28+AT33 -> 0 | AU27: =AU28+AU33 -> 10.65
A28: 5 | B28: Потери тепловой энергии в сети (нормативные)* | C28: 0.331 | D28: 0.331 | E28: 0.331 | F28: 0.331 | G28: 0.331 | K28: 0.32 | M28: 0.32 | O28: 0.32 | S28: 0.31 | U28: 0.31 | W28: 0.31 | AA28: 0.3 | AC28: 0.3 | AE28: 0.3 | AI28: 0.29 | AK28: 0.29 | AM28: 0.29 | AQ28: 0.28 | AS28: 0.28 | AT28: 0 | AU28: 0.28
A29: 5.1 | B29: в том числе:
B30: - через изоляцию
A31: 5.2 | B31: - с потерями теплоносителя
A32: 5.3 | B32: то же в % к отпуску тепловой энергии от источника тепловой энергии
A33: 6 | B33: Отпуск тепловой энергии из тепловой сети (полезный отпуск), всего | C33: =C27-C28 -> 11.939 | D33: 12.022 | E33: =C33 -> 11.939 | F33: 12.022 | G33: =C33 -> 11.939 | H33: 12.022 | I33: 12.022 | J33: 12.022 | K33: =K27-K28 -> 10.522 | M33: =K33 -> 10.522 | O33: =K33 -> 10.522 | S33: =S27-S28 -> 10.484 | U33: =S33 -> 10.484 | W33: =U33 -> 10.484 | AA33: =AA27-AA28 -> 10.446 | AC33: =AA33 -> 10.446 | AE33: =AA33 -> 10.446 | AI33: =AI27-AI28 -> 10.408 | AK33: =AI33 -> 10.408 | AM33: =AK33 -> 10.408 | AQ33: =AQ27-AQ28 -> 10.37 | AS33: =AQ33 -> 10.37 | AU33: =AQ33 -> 10.37
A35: Примечания:
A36: 1. Заполняется по каждому источнику тепловой энергии, по каждой системе теплоснабжения, если при установлении цен (тарифов) применяется такая дифференциация, по каждой организации, осуществляющей деятельность по производству тепловой энергии, в целом по единой теплоснабжающей организации.
A37: 2. В стр. 3 заполняется расход тепловой энергии на хозяйственные нужды только на источнике тепловой энергии.
A38: 3. Стр. 4 = стр. 1 + стр. 2 – стр. 3.
A39: 4. Стр. 6 = стр. 4 – стр. 5.
A40: 5. В строке 5 указываются фактические потери тепловой энергии в сети в случае предусмотренном пунктом 90 Основ ценообразования в сфере теплоснабжения, утвержденных постановлением Правительства Российской федерации от 22.10.2012 № 1075.

Sheet Таблица 4.3
A1: Приложение 4.3
A4: Структура полезного отпуска тепловой энергии (мощности)
A6: № | C6: Факт 2022 года | G6: Период регулирования 2024год | K6: Период регулирования 2025 год | O6: Период регулирования 2026 год | S6: Период регулирования 2027 год | W6: Период регулирования 2028 год
A7: п/п | C7: Суммарная договорная (заявленная) тепловая нагрузка по всем договорам теплоснабжения, Гкал/час | D7: в т.ч по нерегулируемым договорам, Гкал/час | E7: Суммарный полезный отпуск тепловой энергии энергия, | F7: в т.ч по нерегулируемым договорам, тыс. Гкал | G7: Суммарная договорная (заявленная) тепловая нагрузка по всем договорам теплоснабжения, Гкал/час | H7: в т.ч по нерегулируемым договорам, Гкал/час | I7: Суммарный полезный отпуск тепловой энергии энергия, | J7: в т.ч по нерегулируемым договорам, тыс. Гкал | K7: Суммарная договорная (заявленная) тепловая нагрузка по всем договорам теплоснабжения, Гкал/час | L7: в т.ч по нерегулируемым договорам, Гкал/час | M7: Суммарный полезный отпуск тепловой энергии энергия, | N7: в т.ч по нерегулируемым договорам, тыс. Гкал | O7: Суммарная договорная (заявленная) тепловая нагрузка по всем договорам теплоснабжения, Гкал/час | P7: в т.ч по нерегулируемым договорам, Гкал/час | Q7: Суммарный полезный отпуск тепловой энергии энергия, | R7: в т.ч по нерегулируемым договорам, тыс. Гкал | S7: Суммарная договорная (заявленная) тепловая нагрузка по всем договорам теплоснабжения, Гкал/час | T7: в т.ч по нерегулируемым договорам, Гкал/час | U7: Суммарный полезный отпуск тепловой энергии энергия, | V7: в т.ч по нерегулируемым договорам, тыс. Гкал | W7: Суммарная договорная (заявленная) тепловая нагрузка по всем договорам теплоснабжения, Гкал/час | X7: в т.ч по нерегулируемым договорам, Гкал/час | Y7: Суммарный полезный отпуск тепловой энергии энергия, | Z7: в т.ч по нерегулируемым договорам, тыс. Гкал
E8: тыс. Гкал | I8: тыс. Гкал | M8: тыс. Гкал | Q8: тыс. Гкал | U8: тыс. Гкал | Y8: тыс. Гкал
A9: 1 | B9: 2 | C9: 3 | D9: 4 | E9: 5 | F9: 6 | G9: 3 | H9: 4 | I9: 5 | J9: 6 | K9: 3 | L9: 4 | M9: 5 | N9: 6 | O9: 3 | P9: 4 | Q9: 5 | R9: 6 | S9: 3 | T9: 4 | U9: 5 | V9: 6 | W9: 3 | X9: 4 | Y9: 5 | Z9: 6
A10: 1 | B10: Всего отпущено потребителям | C10: 11.933 | E10: =E14 -> 11.939 | G10: 11.933 | I10: ='Таблица 4.1'!K33 -> 10.522 | K10: 11.933 | M10: ='Таблица 4.1'!S33 -> 10.484 | O10: 11.933 | Q10: ='Таблица 4.1'!AA33 -> 10.446 | S10: 11.933 | U10: ='Таблица 4.1'!AI33 -> 10.408 | W10: 11.933 | Y10: ='Таблица 4.1'!AQ33 -> 10.37
B11: Вода
B12: Отборный пар
B13: - от 1,2 до 2,5 кгс/кв. см
B14: - от 2,5 до 7,0 кгс/кв. см | C14: 11.933 | E14: ='Таблица 4.1'!C33 -> 11.939 | G14: 11.933 | I14: ='Таблица 4.1'!K33 -> 10.522 | K14: 11.933 | M14: ='Таблица 4.1'!S33 -> 10.484 | O14: 11.933 | Q14: ='Таблица 4.1'!AA33 -> 10.446 | S14: 11.933 | U14: ='Таблица 4.1'!AI33 -> 10.408 | W14: 11.933 | Y14: =Y10 -> 10.37
B15: - от 7,0 до 13,0 кгс/кв. см
B16: - свыше 13,0 кгс/кв. см
B17: Острый и редуцированный пар
B18: В том числе
B19: Население
B20: Вода
B21: Отборный пар
B22: - от 1,2 до 2,5 кгс/кв. см
B23: - от 2,5 до 7,0 кгс/кв. см
B24: - от 7,0 до 13,0 кгс/кв. см
B25: - свыше 13,0 кгс/кв. см
B26: Острый и редуцированный пар
B29: Бухгалтер | P29: Сергеева Д.М.
A32: Примечания:
A33: 1. Заполняется по каждому источнику тепловой энергии, по каждой системе теплоснабжения, если при установлении цен (тарифов) применяется такая дифференциация, по каждой теплоснабжающей, теплосетевой организации, в целом по единой теплоснабжающей организации.
A34: 2. Может заполняться с помесячной разбивкой.

Sheet Таблица 4.4
A1: Приложение 4.4
A3: Расчет расхода топлива по электростанциям (котельным)
A6: № п/п | B6: Показатели | C6: Единица измерения | D6: Факт 2022 года | E6: Период регулиро-вания 2024год | F6: Период регулиро-вания 2025 год | G6: Период регулиро-вания 2026 год | H6: Период регулиро-вания 2027 год | I6: Период регулиро-вания 2028 год
A8: 1 | B8: 2 | C8: 3 | D8: 4 | E8: 5 | F8: 6 | G8: 7 | H8: 8 | I8: 9
A9: 1 | B9: Выработка электроэнергии, всего | C9: млн.кВтч
A10: 2 | B10: Расход электроэнергии на собственные нужды: | C10: млн.кВтч
A11: 2.1 | B11: на производство электроэнергии | C11: млн.кВтч
A12: 2.1.1 | B12: то же в % к выработке электроэнергии | C12: %
A13: 2.2 | B13: на производство тепловой энергии | C13: млн.кВтч
A14: 2.2.1 | B14: то же в кВтч/Гкал | C14: кВтч/Гкал
A15: 3 | B15: Отпуск электроэнергии с шин | C15: млн.кВтч
A16: 4 | B16: Расход электроэнергии на производственные и хозяйственные нужды | C16: млн.кВтч
A17: 4.1 | B17: то же в % к отпуску с шин | C17: %
A18: 5 | B18: Расход электроэнергии на потери в трансформаторах | C18: млн.кВтч
A19: 5.1 | B19: то же в % к отпуску с шин | C19: %
A20: 6 | B20: Полезный отпуск электроэнергии в сеть | C20: млн.кВтч
A21: 7 | B21: Отпуск тепловой энергии, поставляемой с коллекторов источника тепловой энергии | C21: тыс.Гкал | D21: ='Таблица 4.1'!C21 -> 12.43 | E21: ='Таблица 4.1'!K17 -> 11 | F21: ='Таблица 4.1'!S17 -> 10.95 | G21: ='Таблица 4.1'!AA17 -> 10.9 | H21: ='Таблица 4.1'!AI17 -> 10.85 | I21: ='Таблица 4.1'!AQ17 -> 10.8
A22: 8 | B22: Расход теплоэнергии на хозяйственные нужды: | C22: тыс.Гкал | D22: ='Таблица 4.1'!C26 -> 0.16 | E22: ='Таблица 4.1'!K26 -> 0.158 | F22: ='Таблица 4.1'!S26 -> 0.156 | G22: ='Таблица 4.1'!AA26 -> 0.154 | H22: ='Таблица 4.1'!AI26 -> 0.152 | I22: ='Таблица 4.1'!AQ26 -> 0.15
A23: 8.1 | B23: то же в % к отпуску теплоэнергии | C23: % | D23: =D22/D21*100 -> 1.2872084 | E23: =E22/E21*100 -> 1.4363636 | F23: =F22/F21*100 -> 1.4246575 | G23: =G22/G21*100 -> 1.412844 | H23: =H22/H21*100 -> 1.4009217 | I23: =I22/I21*100 -> 1.3888889
A24: 9 | B24: Отпуск тепловой энергии от источника тепловой энергии (полезный отпуск) | C24: тыс.Гкал | D24: ='Таблица 4.1'!C33 -> 11.939 | E24: ='Таблица 4.1'!K33 -> 10.522 | F24: ='Таблица 4.1'!S33 -> 10.484 | G24: ='Таблица 4.1'!AA33 -> 10.446 | H24: ='Таблица 4.1'!AI33 -> 10.408 | I24: ='Таблица 4.1'!AQ33 -> 10.37
A25: 10 | B25: Отпуск электроэнергии с шин | C25: млн.кВтч
A26: 11 | B26: Нормативный удельный расход условного топлива на производство электроэнергии | C26: г/кВтч
A27: 12 | B27: Расход условного топлива на производство электроэнергии | C27: тыс.тут
A28: 13 | B28: Отпуск тепловой энергии, поставляемой с коллекторов источника тепловой энергии | C28: тыс.Гкал
A29: 14 | B29: Нормативный удельный расход условного топлива на производство тепловой энергии | C29: кг/Гкал | D29: 158.2 | E29: 158.2 | F29: 158.2 | G29: 158.2 | H29: 158.2 | I29: 158.2
A30: 15 | B30: Итого расход условного топлива на производство тепловой энергии | C30: тыс.тут | D30: =D33 -> 2001.036 | E30: =E33 -> 1975.648 | F30: =F33 -> 1941.028 | G30: =G33 -> 1938.72 | H30: =H33 -> 1923.9488 | I30: =I33 -> 1906.408
A31: 16 | B31: Расход т у.т., всего | C31: тыс.тут | D31: =D37 -> 2001.036 | E31: =E37 -> 1975.648 | F31: =F37 -> 1941.028 | G31: =G37 -> 1938.72 | H31: =H37 -> 1923.9488 | I31: =I37 -> 1906.408
A32: 17 | B32: Удельный вес расхода топлива на производство тепловой энергии (п.15/п.16) | C32: % | D32: 100 | E32: 100 | F32: 100 | G32: 100 | H32: 100 | I32: 100
A33: 18 | B33: Расход условного топлива | C33: тыс.тут | D33: =D62*D57*1000 -> 2001.036 | E33: =E62*E57*1000 -> 1975.648 | F33: =F62*F57*1000 -> 1941.028 | G33: =G62*G57*1000 -> 1938.72 | H33: =H62*H57*1000 -> 1923.9488 | I33: =I62*I57*1000 -> 1906.408
A34: 18.1 | B34: уголь всего, в том числе: | C34: тыс.тут
A36: 18.2 | B36: мазут | C36: тыс.тут
A37: 18.3 | B37: газ всего, в том числе: | C37: тыс.тут | D37: =D33 -> 2001.036 | E37: =E33 -> 1975.648 | F37: =F33 -> 1941.028 | G37: =G33 -> 1938.72 | H37: =H33 -> 1923.9488 | I37: =I33 -> 1906.408
A38: 18.3.1 | B38: газ лимитный | C38: тыс.тут
A39: 18.3.2 | B39: газ сверхлимитный | C39: тыс.тут
A40: 18.3.3 | B40: газ коммерческий | C40: тыс.тут
A41: 18.4 | B41: др.виды топлива | C41: тыс.тут
A43: 18.5 | B43: на производство тепловой энергии | C43: тыс.тут
A44: 19 | B44: Доля | C44: % | D44: 100 | E44: 100 | F44: 100 | G44: 100 | H44: 100 | I44: 100
A45: 19.1 | B45: уголь всего, в том числе: | C45: %
A47: 19.2 | B47: мазут | C47: %
...

Sheet Таблица 4.5
A1: Приложение 4.5
A4: Расчет баланса топлива
A6: Электростанция (котельная) | B6: Вид топлива/Калорийность топлива, ккал/кг н.т | C6: Остаток на начало периода | F6: Приход натурального топлива | M6: Расход натурального топлива | P6: Остаток на конец периода
C7: всего, тыс. т.н.т. | D7: цена, руб./т.н.т. | E7: стоимость, тыс. руб. | F7: всего, т.н.т. | G7: цена франко станция | H7: дальность перевозки | I7: тариф на перевозку | J7: норматив потерь при перевозке | K7: цена франко станция назначения, руб./т.н.т. | L7: стоимость, тыс. руб. | M7: всего, т.н.т. | N7: цена, руб./т.н.т. | O7: стоимость, тыс. руб. | P7: всего, тыс. т.н.т. | Q7: цена, руб./т.н.т. | R7: стоимость, тыс. руб.
A10: 1 | B10: 2 | C10: 3 | D10: 4 | E10: 5 | F10: 6 | G10: 7 | H10: 8 | I10: 9 | J10: 10 | K10: 11 | L10: 12 | M10: 13 | N10: 14 | O10: 15 | P10: 16 | Q10: 17 | R10: 18
A11: Факт 2022 года
A12: ТЭС 1 | B12: Газ… | C12: 0 | D12: 0 | E12: 0 | F12: ='Таблица 4.4'!D62*1000 -> 1734 | I12: 542.964 | L12: ='Таблица 4.4'!D146 -> 11816.4 | M12: =F12 -> 1734 | N12: =O12/M12*1000 -> 6814.5329 | O12: =L12 -> 11816.4 | P12: 0 | Q12: 0 | R12: 0
B13: Уголь…
B14: Мазут
B15: Торф
B16: Прочие
B17: …
A18: и т.д. | B18: …
A20: Всего | B20: Газ… | C20: 0 | D20: 0 | E20: 0 | F20: =F12 -> 1734 | I20: =I12 -> 542.964 | K20: 0 | L20: =L12 -> 11816.4 | M20: =F20 -> 1734 | N20: =O20/M20*1000 -> 6814.5329 | O20: =L20 -> 11816.4 | P20: 0 | Q20: 0 | R20: 0
B21: Уголь…
B22: Мазут
B23: Торф
B24: Прочие
A25: Период регулирования 2024 год
A26: ТЭС 1 | B26: Газ… | C26: 0 | D26: 0 | E26: 0 | F26: ='Таблица 4.4'!E62*1000 -> 1712 | I26: =I12*1.04 -> 564.68256 | L26: ='Таблица 4.4'!E146 -> 12289.056 | M26: =F26 -> 1712 | N26: =O26/M26*1000 -> 7178.1869 | O26: =L26 -> 12289.056 | P26: 0 | Q26: 0 | R26: 0
A35: Всего | B35: Газ… | C35: 0 | D35: 0 | E35: 0 | F35: =F26 -> 1712 | I35: =I26 -> 564.68256 | L35: =L26 -> 12289.056 | M35: =F35 -> 1712 | N35: =O35/M35*1000 -> 7178.1869 | O35: =L35 -> 12289.056 | P35: 0 | Q35: 0 | R35: 0
B36: Уголь…
B37: Мазут
B38: Торф
B39: Прочие
A40: Период регулирования 2025 год
A41: ТЭС 1 | B41: Газ… | C41: 0 | D41: 0 | E41: 0 | F41: ='Таблица 4.4'!F62*1000 -> 1682 | I41: =I26*1.04 -> 587.26986 | L41: ='Таблица 4.4'!F146 -> 12780.618 | M41: =F41 -> 1682 | N41: =O41/M41*1000 -> 7598.4651 | O41: =L41 -> 12780.618 | P41: 0 | Q41: 0 | R41: 0
B42: Уголь…
B43: Мазут
B44: Торф
B45: Прочие
B46: …
A47: и т.д. | B47: …
A50: Всего | B50: Газ… | C50: 0 | D50: 0 | E50: 0 | F50: =F41 -> 1682 | I50: =I41 -> 587.26986 | L50: =L41 -> 12780.618 | M50: =F50 -> 1682 | N50: =O50/M50*1000 -> 7598.4651 | O50: =L50 -> 12780.618 | P50: 0 | Q50: 0 | R50: 0
B51: Уголь…
B52: Мазут
B53: Торф
B54: Прочие
A55: Период регулирования 2025 год
A56: ТЭС 1 | B56: Газ… | C56: 0 | D56: 0 | E56: 0 | F56: ='Таблица 4.4'!G62*1000 -> 1680 | I56: =I41*1.04 -> 610.76066 | L56: ='Таблица 4.4'!G146 -> 13291.843 | M56: =F56 -> 1680 | N56: =O56/M56*1000 -> 7911.8113 | O56: =L56 -> 13291.843 | P56: 0 | Q56: 0 | R56: 0
...

Sheet Таблица 4.7
A1: Приложение 4.7
A4: Расходы на прочие покупаемые энергетические ресурсы
A6: № | B6: Наименование поставщика | D6: Расчетная мощность, тыс. кВт (Гкал/ч) | E6: Тариф | H6: Затраты на покупку,
A7: п/п | C7: Объем покупной энергии, | H7: тыс. руб.
E8: односта-вочный | F8: двухставочный | H8: энергии | I8: мощности | J8: всего
F9: ставка | G9: ставка
C10: млн. кВт·ч (тыс. Гкал) | F10: за мощность | G10: за энергию
E11: руб./тыс. кВт·ч (руб./Гкал) | F11: руб./МВт в мес. | G11: руб./тыс. кВт·ч (руб./Гкал)
F12: (тыс. руб./
F13: Гкал/ч в мес.)
A14: 1 | B14: 2 | C14: 3 | D14: 4 | E14: 5 | F14: 6 | G14: 7 | H14: 8 | I14: 9 | J14: 10
A15: Факт 2022 года
A16: 1 | B16: Электрическая энергия, в том числе: | C16: =C19+C20+C21 -> 0.812721 | E16: =F135 -> 5.5865408 | H16: =H19+H20+H21 -> 4525.7069 | J16: =J19+J20+J21 -> 4525.7069
A18: 1.1 | B18: оптовый рынок
A19: 1.1.1 | B19: ТНС энерго Ярославль ПАО | C19: =L135/1000000 -> 0.812721 | E19: =E16 -> 5.5865408 | H19: =N135/1000 -> 4525.7069 | J19: =I19+H19 -> 4525.7069
A20: 1.1.2 | H20: 0 | J20: 0
A21: 1.1.3 | H21: 0 | J21: 0
A22: 1.2 | B22: розничный рынок
A23: 1.2.1 | B23: поставщик 1
A24: 1.2.2 | B24: …
A26: 2. | B26: Тепловая энергия, в том числе:
A27: 2.1 | B27: поставщик 1
A28: 2.2 | B28: поставщик 2
A29: 2.3 | B29: …
A30: …
A31: n | B31: Итого | C31: =C19 -> 0.812721 | E31: =E16 -> 5.5865408 | H31: =H19 -> 4525.7069 | J31: =J19 -> 4525.7069
A32: Период регулирования 2024 год
A33: 1 | B33: Электрическая энергия, в том числе: | C33: =C36+C37+C38 -> 0.27 | E33: =E36+E37+E38 -> 5.8100025 | H33: =H36+H37+H38 -> 1568.7007 | J33: =J36+J37+J38 -> 1568.7007
A35: 1.1 | B35: оптовый рынок
A36: 1.1.1 | B36: ТНС энерго Ярославль ПАО | C36: 0.27 | E36: =E19*1.04 -> 5.8100025 | H36: =C36*E36*1000 -> 1568.7007 | J36: =H36+I36 -> 1568.7007
H37: 0 | J37: 0
H38: 0 | J38: 0
A48: n | B48: Итого | C48: =C36 -> 0.27 | E48: =E36 -> 5.8100025 | H48: =H36 -> 1568.7007 | J48: =J36 -> 1568.7007
A49: Период регулирования 2025 год
A50: 1 | B50: Электрическая энергия, в том числе: | C50: =C53+C54+C55 -> 0.27 | E50: =E53+E54+E55 -> 6.0424026 | H50: =H53+H54+H55 -> 1631.4487 | J50: =J53+J54+J55 -> 1631.4487
A52: 1.1 | B52: оптовый рынок
A53: 1.1.1 | B53: ТНС энерго Ярославль ПАО | C53: 0.27 | E53: =E48*1.04 -> 6.0424026 | H53: =C53*E53*1000 -> 1631.4487 | J53: =H53+I53 -> 1631.4487
A54: 1.1.2 | B54: … | H54: 0 | J54: 0
A55: … | H55: 0 | J55: 0
A56: 1.2 | B56: розничный рынок
...

Sheet Таблица 4.8
A1: Приложение 4.8
A4: Расходы на приобретение холодной воды и теплоносителя
A6: № п.п. | B6: Вид сырья и материалов | C6: Факт 2022 года | F6: Период регулирования 2024 год | I6: Период регулирования 2025 год | L6: Период регулирования 2026 год | O6: Период регулирования 2027 год | R6: Период регулирования 2028 год
C7: Расчетный объем | D7: Планируемая (расчетная) цена | E7: Расходы на приобретение | F7: Расчетный объем | G7: Планируемая (расчетная) цена | H7: Расходы на приобретение | I7: Расчетный объем | J7: Планируемая (расчетная) цена | K7: Расходы на приобретение | L7: Расчетный объем | M7: Планируемая (расчетная) цена | N7: Расходы на приобретение | O7: Расчетный объем | P7: Планируемая (расчетная) цена | Q7: Расходы на приобретение | R7: Расчетный объем | S7: Планируемая (расчетная) цена | T7: Расходы на приобретение
C8: м3 | D8: тыс.руб./м3 | E8: тыс.руб. | F8: м3 | G8: тыс.руб./м3 | H8: тыс.руб. | I8: м3 | J8: тыс.руб./м3 | K8: тыс.руб. | L8: м3 | M8: тыс.руб./м3 | N8: тыс.руб. | O8: м3 | P8: тыс.руб./м3 | Q8: тыс.руб. | R8: м3 | S8: тыс.руб./м3 | T8: тыс.руб.
A9: 1 | B9: 2 | C9: 3 | D9: 4 | E9: 5 | F9: 3 | G9: 4 | H9: 5 | I9: 3 | J9: 4 | K9: 5 | L9: 3 | M9: 4 | N9: 5 | O9: 3 | P9: 4 | Q9: 5 | R9: 3 | S9: 4 | T9: 5
A10: 1 | B10: Расходы на холодную воду, в том числе | C10: =C47 -> 35744 | D10: =E10/C10*1000 -> 29.105373 | E10: =E47/1000 -> 1040.3425 | F10: 40500 | G10: =D10*1.04 -> 30.269588 | H10: =F10*G10/1000 -> 1225.9183 | I10: 40500 | J10: =G10*1.04 -> 31.480372 | K10: =I10*J10/1000 -> 1274.9551 | L10: 40500 | M10: =J10*1.04 -> 32.739587 | N10: =L10*M10/1000 -> 1325.9533 | O10: 40500 | P10: =M10*1.04 -> 34.04917 | Q10: =O10*P10/1000 -> 1378.9914 | R10: 40500 | S10: =P10*1.04 -> 35.411137 | T10: =R10*S10/1000 -> 1434.1511
A11: 1.1 | B11: на производство электрической энергии
A12: 1.2 | B12: на производство тепловой энергии | C12: =C62 -> 9200 | D12: =D62 -> 29.060833 | E12: =E62/1000 -> 267.3345 | F12: 9400 | G12: =G10 -> 30.269588 | H12: =G12*F12/1000 -> 284.53413 | I12: 9400 | J12: =J10 -> 31.480372 | K12: =J12*I12/1000 -> 295.9155 | L12: 9400 | M12: =M10 -> 32.739587 | N12: =M12*L12/1000 -> 307.75212 | O12: 9400 | P12: =P10 -> 34.04917 | Q12: =P12*O12/1000 -> 320.0622 | R12: 9400 | S12: =S10 -> 35.411137 | T12: =S12*R12/1000 -> 332.86469
A13: 1.3 | B13: на производство теплоносителя
A14: 1.4 | B14: прочая продукция
A15: 2 | B15: Расходы на теплоноситель
B18: ='Таблица 4.1'!B42 -> 0 | E18: ='Таблица 4.1'!AE42 -> 0
A24: Примечания:
A25: 1. Заполняется по каждому источнику тепловой энергии, по каждой системе теплоснабжения, если при установлении цен (тарифов) применяется такая дифференциация, по каждому виду регулируемой деятельности, по каждой теплоснабжающей, теплосетевой организации, в целом по единой теплоснабжающей организации.
A26: 2. Для источников тепловой энергии, функционирующих в режиме комбинированной выработки электрической и тепловой энергии, таблица заполняется в целом по источнику тепловой энергии. Строки 1.1 – 1.4 заполняются по результатам распределения расходов между тепловой и электрической энергией в соответствии с главой VIII Методических указаний.
A27: 3. Гр. 5 = гр. 3* гр. 4.
A28: 4. Гр. 8 = гр. 6* гр. 7.
B33: СЧЕТА ФАКТУРЫ
C34: объем | D34: цена | E34: стоим
B35: Декабрь | C35: 3856 | D35: 31.04 | E35: =D35*C35 -> 119690.24
B36: Ноябрь | C36: 3644 | D36: 29.41 | E36: =D36*C36 -> 107170.04
B37: Октябрь | C37: 3198 | D37: 29.41 | E37: =D37*C37 -> 94053.18
B38: Сентябрь | C38: 3145 | D38: 29.41 | E38: =D38*C38 -> 92494.45
B39: Август | C39: 3463 | D39: 29.41 | E39: =D39*C39 -> 101846.83
B40: Июль | C40: 733 | D40: 29.41 | E40: =D40*C40 -> 21557.53
B41: Июнь | C41: 3312 | D41: 28.44 | E41: =D41*C41 -> 94193.28
B42: май | C42: 2413 | D42: 28.44 | E42: =D42*C42 -> 68625.72
B43: Апрель | C43: 3077 | D43: 28.44 | E43: =D43*C43 -> 87509.88
B44: Март | C44: 2946 | D44: 28.44 | E44: =D44*C44 -> 83784.24
B45: Февраль | C45: 2541 | D45: 28.44 | E45: =D45*C45 -> 72266.04
B46: Январь | C46: 3416 | D46: 28.44 | E46: =D46*C46 -> 97151.04
B47: итого | C47: =SUM(C35:C46) -> 35744 | D47: =SUM(D35:D46)/12 -> 29.060833 | E47: =SUM(E35:E46) -> 1040342.5
B48: ДАННЫЕ ГЛАВНОГО ИНЖЕНЕРА
C49: объем | D49: цена | E49: стоим
B50: Декабрь | C50: 900 | D50: 31.04 | E50: =D50*C50 -> 27936
B51: Ноябрь | C51: 900 | D51: 29.41 | E51: =D51*C51 -> 26469
B52: Октябрь | C52: 850 | D52: 29.41 | E52: =D52*C52 -> 24998.5
B53: Сентябрь | C53: 800 | D53: 29.41 | E53: =D53*C53 -> 23528
B54: Август | C54: 700 | D54: 29.41 | E54: =D54*C54 -> 20587
...

Sheet Таблица 4.9
A1: Приложение 4.9 к Методическим указаниям, утвержденным приказом ФСТ России от 13.06.2013 N 760-э
A4: Расчет расходов на оплату труда
A6: N п.п. | B6: Показатели | C6: Единица измерения | D6: Факт 2022 г. | E6: Период регулирования 2024 г. | F6: Период регулирования 2025 г. | G6: Период регулирования 2026 г. | H6: Период регулирования 2027 г. | I6: Период регулирования 2028 г.
A7: 1 | B7: 2 | C7: 3 | D7: 4 | E7: 5 | F7: 6 | G7: 7 | H7: 8 | I7: 9
A8: 1. | B8: Численность
A9: 1.1. | B9: Нормативная численность | C9: чел. | D9: 7 | E9: 7 | F9: 7 | G9: 7 | H9: 7 | I9: 7
B10: в т.ч. привлеченный персонал | C10: чел.
A11: 1.2. | B11: Нормативная численность ППП | C11: чел. | D11: 7 | E11: 7 | F11: 7 | G11: 7 | H11: 7 | I11: 7
B12: без привлеченного персонала | C12: чел.
A13: 1.3. | B13: Фактическая численность | C13: чел. | D13: 7 | E13: 7 | F13: 7 | G13: 7 | H13: 7 | I13: 7
B14: % отношения факта к нормативу | C14: % | D14: 100 | E14: 100 | F14: 100 | G14: 100 | H14: 100 | I14: 100
A15: 1.4. | B15: Численность на вводы по нормативу | C15: чел. | D15: 7 | E15: 7 | F15: 7 | G15: 7 | H15: 7 | I15: 7
A16: 1.5. | B16: Численность, принятая для расчета | C16: чел.
A17: 2. | B17: Средняя зарплата
A18: 2.1. | B18: Тарифная ставка рабочего 1-го разряда | C18: руб.
A19: 2.1. | B19: Дефлятор по заработной плате
A20: 2.2. | B20: Тарифная ставка рабочего 1 разряда с учетом дефлятора | C20: руб.
A21: 2.3. | B21: Средняя ступень оплаты труда
A22: 2.3. | B22: Тарифный коэффициент, соответствующий ступени по оплате труда
A23: 2.3. | B23: Среднемесячная тарифная ставка ППП | C23: руб.
A24: 2.6. | B24: Выплаты, связанные с режимом работы, с условиями труда 1 работника:
B25: - процент выплаты | C25: %
B26: - сумма выплат | C26: руб.
A27: 2.7. | B27: Текущее премирование:
B28: - процент выплаты | C28: %
B29: - сумма выплат | C29: руб.
A30: 2.8. | B30: Вознаграждение за выслугу лет:
B31: - процент выплаты | C31: %
B32: - сумма выплат | C32: руб.
A33: 2.9. | B33: Выплаты по итогам года:
B34: - процент выплаты | C34: %
B35: - сумма выплат | C35: руб.
A36: 2.10.
B37: - процент выплаты | C37: %
B38: - сумма выплат | C38: руб.
A39: 2.11.
B40: - процент выплаты | C40: %
B41: - сумма выплат | C41: руб.
A42: 2.12. | B42: Выплаты по районному коэффициенту и северные надбавки:
B43: - процент выплаты | C43: %
...

Sheet Таблица 4.10
A1: Приложение 4.10 к Методическим указаниям, утвержденным приказом ФСТ России от 13.06.2013 N 760-э
A4: Расчет амортизационных отчислений на восстановление основных производственных фондов
A6: N п.п. | B6: Показатели | C6: Единица измерения | D6: Факт 2022 г. | E6: Период регулирования 2024 г. | F6: Период регулирования 2025 г. | G6: Период регулирования 2026 г. | H6: Период регулирования 2027 г. | I6: Период регулирования 2028 г.
A7: 1 | B7: 2 | C7: 3 | D7: 4 | E7: 5 | F7: 6 | G7: 7 | H7: 8 | I7: 9
A8: 1. | B8: Первоначальная стоимость осн. фондов на начало периода | C8: тыс.руб. | D8: =5114531/1000 -> 5114.531 | E8: =D8*1.04 -> 5319.1122 | F8: =E8 -> 5319.1122 | G8: =E8 -> 5319.1122 | H8: =E8 -> 5319.1122 | I8: =E8 -> 5319.1122
B9: Здания | C9: тыс.руб.
B10: Сооружения | C10: тыс.руб. | D10: =1035721/1000 -> 1035.721 | E10: =D10*1.04 -> 1077.1498 | F10: =E10 -> 1077.1498 | G10: =E10 -> 1077.1498 | H10: =E10 -> 1077.1498 | I10: =E10 -> 1077.1498
B11: Передаточные устройства | C11: тыс.руб.
B12: Машины и оборудование | C12: тыс.руб. | D12: =4078810/1000 -> 4078.81 | E12: =D12*1.04 -> 4241.9624 | F12: =E12 -> 4241.9624 | G12: =E12 -> 4241.9624 | H12: =E12 -> 4241.9624 | I12: =E12 -> 4241.9624
B13: в т.ч. - силовые машины | C13: тыс.руб.
B14: - рабочие машины | C14: тыс.руб. | D14: =D12 -> 4078.81 | E14: =D14*1.04 -> 4241.9624 | F14: =E14 -> 4241.9624 | G14: =E14 -> 4241.9624 | H14: =E14 -> 4241.9624 | I14: =E14 -> 4241.9624
B15: - приборы и лаборат. оборудование | C15: тыс.руб.
B16: - вычислительная техника | C16: тыс.руб.
B17: - прочие машины | C17: тыс.руб.
B18: Транспортные средства | C18: тыс.руб.
B19: Инструмент | C19: тыс.руб.
B20: Производственный инвентарь | C20: тыс.руб.
B21: Прочие основные производственные фонды | C21: тыс.руб.
A23: 2. | B23: Переоценка стоимости осн. фондов (только положительная или отрицательная разница относительно первоначальной стоимости осн.фондов) | C23: тыс.руб.
B24: Здания | C24: тыс.руб.
B25: Сооружения | C25: тыс.руб.
B26: Передаточные устройства | C26: тыс.руб.
B27: Машины и оборудование | C27: тыс.руб.
B28: в т.ч. - силовые машины | C28: тыс.руб.
B29: - рабочие машины | C29: тыс.руб.
B30: - приборы и лаборат. оборудование | C30: тыс.руб.
B31: - вычислительная техника | C31: тыс.руб.
B32: - прочие машины | C32: тыс.руб.
B33: Транспортные средства | C33: тыс.руб.
B34: Инструмент | C34: тыс.руб.
B35: Производственный инвентарь | C35: тыс.руб.
B36: Прочие основные производственные фонды | C36: тыс.руб.
A38: 3. | B38: Ввод основных производственных фондов | C38: тыс.руб.
B39: Здания | C39: тыс.руб.
B40: Сооружения | C40: тыс.руб.
B41: Передаточные устройства | C41: тыс.руб.
B42: Машины и оборудование | C42: тыс.руб.
B43: в т.ч. - силовые машины | C43: тыс.руб.
B44: - рабочие машины | C44: тыс.руб.
B45: - приборы и лаборат. оборудование | C45: тыс.руб.
...

Sheet Смета, Таблица 5.1
A1: Приложение 5.1
A3: Смета расходов (метод экономически обоснованных расходов (затрат))
A4: руб.
A5: N п/п | B5: Показатели | C5: Факт 2022 г. | D5: Период регулирования 2024 г. | E5: Период регулирования 2025 г. | F5: Период регулирования 2026 г. | G5: Период регулирования 2027 г. | H5: Период регулирования 2028 г.
A6: 1 | B6: 2 | C6: 3 | D6: 4 | E6: 5 | F6: 6 | G6: 7 | H6: 8
A7: I. | B7: Расходы, связанные с производством и реализацией продукции (услуг), всего | C7: =C8+C11+C12+C15+C19+C20+C24+C28+C29+C32+C33+C34+C35+C36+C37+C38+C39+C27 -> 35148347 | D7: =D8+D11+D12+D15+D19+D20+D24+D28+D29+D32+D33+D34+D35+D36+D37+D38+D39+D27 -> 33541840 | E7: =E8+E11+E12+E15+E19+E20+E24+E28+E29+E32+E33+E34+E35+E36+E37+E38+E39+E27 -> 35012607 | F7: =F8+F11+F12+F15+F19+F20+F24+F28+F29+F32+F33+F34+F35+F36+F37+F38+F39+F27 -> 36552101 | G7: =G8+G11+G12+G15+G19+G20+G24+G28+G29+G32+G33+G34+G35+G36+G37+G38+G39+G27 -> 38163052 | H7: =H8+H11+H12+H15+H19+H20+H24+H28+H29+H32+H33+H34+H35+H36+H37+H38+H39+H27 -> 39848371
A8: 1. | B8: расходы на сырье и материалы | C8: =C9+C10 -> 1696033.3 | D8: =D9+D10 -> 1763874.6 | E8: =E9+E10 -> 1834429.6 | F8: =F9+F10 -> 1907806.8 | G8: =G9+G10 -> 1984119.1 | H8: =H9+H10 -> 2063483.8 | I8: 1726868.3 | J8: =C8+C46 -> 1726868.3 | K8: должно сойтись с котельной общей суммой по всем десяткам
A9: 1.1. | B9: материалы на химводоподготовку | C9: =1790318*0.85 -> 1521770.3 | D9: =C9*1.04 -> 1582641.1 | E9: =D9*1.04 -> 1645946.8 | F9: =E9*1.04 -> 1711784.6 | G9: =F9*1.04 -> 1780256 | H9: =G9*1.04 -> 1851466.3 | I9: из требований/ПСХ/материалы/соль(*85%)
A10: 1.2. | B10: зап-ти, инструмент,вспом.мат-ы | C10: =I8-C9-C46 -> 174263 | D10: =C10*1.04 -> 181233.52 | E10: =D10*1.04 -> 188482.86 | F10: =E10*1.04 -> 196022.18 | G10: =F10*1.04 -> 203863.06 | H10: =G10*1.04 -> 212017.58
A11: 2. | B11: расходы на топливо | C11: ='Таблица 4.4'!D156*1000 -> 11816400 | D11: ='Таблица 4.4'!E156*1000 -> 12289056 | E11: ='Таблица 4.4'!F156*1000 -> 12780618 | F11: ='Таблица 4.4'!G156*1000 -> 13291843 | G11: ='Таблица 4.4'!H156*1000 -> 13823517 | H11: ='Таблица 4.4'!I156*1000 -> 14376457
A12: 3. | B12: расходы на прочие покупаемые энергетические ресурсы | C12: ='Таблица 4.7'!H16*1000 -> 4525706.9 | D12: ='Таблица 4.7'!H33*1000 -> 1568700.7 | E12: ='Таблица 4.7'!H50*1000 -> 1631448.7 | F12: ='Таблица 4.7'!H67*1000 -> 1696706.6 | G12: ='Таблица 4.7'!H84*1000 -> 1764574.9 | H12: ='Таблица 4.7'!H101*1000 -> 1835157.9
A13: 3.1. | B13: технологические цели | F13: =E13*1.01 -> 0 | G13: 0 | H13: 0
A14: 3.2. | B14: хозяйственно-бытовые нужды | F14: =E14*1.01 -> 0 | G14: 0 | H14: 0
A15: 4. | B15: расходы на холодную воду | C15: ='Таблица 4.8'!E12*1000 -> 267334.5 | D15: ='Таблица 4.8'!H12*1000 -> 284534.13 | E15: ='Таблица 4.8'!K12*1000 -> 295915.5 | F15: ='Таблица 4.8'!N12*1000 -> 307752.12 | G15: ='Таблица 4.8'!Q12*1000 -> 320062.2 | H15: ='Таблица 4.8'!T12*1000 -> 332864.69
A16: 4.1. | B16: технологические цели | F16: =E16*1.01 -> 0 | G16: 0 | H16: 0
A17: 4.2. | B17: хозяйственно-бытовые нужды | F17: =E17*1.01 -> 0 | G17: 0 | H17: 0
A18: 5. | B18: расходы на теплоноситель | C18: 0 | D18: 0 | E18: 0 | F18: 0 | G18: 0 | H18: 0
A19: 6. | B19: амортизация основных средств и нематериальных активов | C19: ='Таблица 4.10'!D98*1000 -> 106595 | D19: ='Таблица 4.10'!E98*1000 -> 90605.75 | E19: ='Таблица 4.10'!F98*1000 -> 77014.887 | F19: ='Таблица 4.10'!G98*1000 -> 65462.654 | G19: ='Таблица 4.10'!H98*1000 -> 55643.256 | H19: ='Таблица 4.10'!I98*1000 -> 47296.768
A20: 7. | B20: оплата труда | C20: =C22+C21 -> 13934071 | D20: =D22+D21 -> 14630774 | E20: =E22+E21 -> 15362313 | F20: =F22+F21 -> 16130429 | G20: =G22+G21 -> 16936950 | H20: =H22+H21 -> 17783798 | J20: 5343832
A21: 7.1. | B21: ИТР | C21: ='Таблица 4.9'!D46 -> 7627494.1 | D21: ='Таблица 4.9'!E46 -> 8008868.8 | E21: ='Таблица 4.9'!F46 -> 8409312.2 | F21: ='Таблица 4.9'!G46 -> 8829777.8 | G21: ='Таблица 4.9'!H46 -> 9271266.7 | H21: ='Таблица 4.9'!I46 -> 9734830.1
A22: 7.2. | B22: ППП | C22: ='Таблица 4.9'!D53 -> 6306576.8 | D22: ='Таблица 4.9'!E53 -> 6621905.6 | E22: ='Таблица 4.9'!F53 -> 6953000.9 | F22: ='Таблица 4.9'!G53 -> 7300650.9 | G22: ='Таблица 4.9'!H53 -> 7665683.5 | H22: ='Таблица 4.9'!I53 -> 8048967.7
A23: 7.3. | B23: ……. | F23: =E23*1.01 -> 0 | G23: 0 | H23: 0
A24: 8. | B24: отчисления на социальные нужды | C24: =C25+C26 -> 1334361.4 | D24: =D25+D26 -> 1387735.9 | E24: =E25+E26 -> 1443245.3 | F24: =F25+F26 -> 1500975.1 | G24: =G25+G26 -> 1561014.2 | H24: =H25+H26 -> 1623454.7
B25: счет 69 | C25: 1320917.3 | D25: =C25*1.04 -> 1373754 | E25: =D25*1.04 -> 1428704.2 | F25: =E25*1.04 -> 1485852.3 | G25: =F25*1.04 -> 1545286.4 | H25: =G25*1.04 -> 1607097.9 | J25: =J20*30% -> 1603149.6
B26: счет 69.11 | C26: 13444.14 | D26: =C26*1.04 -> 13981.906 | E26: =D26*1.04 -> 14541.182 | F26: =E26*1.04 -> 15122.829 | G26: =F26*1.04 -> 15727.742 | H26: =G26*1.04 -> 16356.852 | J26: =J20*0.64% -> 34200.525
B27: счет 96 | C27: 243464.98 | D27: =C27*1.04 -> 253203.58 | E27: =D27*1.04 -> 263331.73 | F27: =E27*1.04 -> 273864.99 | G27: =F27*1.04 -> 284819.59 | H27: =G27*1.04 -> 296212.38 | J27: =J20*11.59% -> 619350.13
A28: 9. | B28: ремонт основных средств выполняемый подрядным способом
A29: 10. | B29: расходы на оплату услуг, оказываемых организациями, осуществляющими регулируемую деятельность
A30: 10.1. | B30: технологические цели
A31: 10.2. | B31: хозяйственно-бытовые нужды
A32: 11. | B32: расходы на выполнение работ и услуг производственного характера, выполняемых по договорам со сторонними организациями или индивидуальными предпринимателями | C32: 1062140 | D32: =C32*1.04 -> 1104625.6 | E32: =D32*1.04 -> 1148810.6 | F32: =E32*1.04 -> 1194763 | G32: =F32*1.04 -> 1242553.6 | H32: =G32*1.04 -> 1292255.7
A33: 12. | B33: расходы на оплату иных работ и услуг, выполняемых по договорам с организациями, включая расходы на оплату услуг связи, вневедомственной охраны, коммунальных услуг, юридических, информационных, аудиторских и консультационных услуг
A34: 13. | B34: плата за выбросы и сбросы загрязняющих веществ в окружающую среду, размещение отходов и другие виды негативного воздействия на окружающую среду в пределах установленных нормативов и (или) лимитов
A35: 14. | B35: арендная плата, концессионная плата, лизинговые платежи
A36: 15. | B36: расходы на служебные командировки
A37: 16. | B37: расходы на обучение персонала | C37: 21000 | D37: =C37*1.04 -> 21840 | E37: =D37*1.04 -> 22713.6 | F37: =E37*1.04 -> 23622.144 | G37: =F37*1.04 -> 24567.03 | H37: =G37*1.04 -> 25549.711
A38: 17. | B38: расходы на страхование производственных объектов, учитываемые при определении налоговой базы по налогу на прибыль | C38: 7500 | D38: =C38*1.04 -> 7800 | E38: =D38*1.04 -> 8112 | F38: =E38*1.04 -> 8436.48 | G38: =F38*1.04 -> 8773.9392 | H38: =G38*1.04 -> 9124.8968
A39: 18. | B39: другие расходы, связанные с производством и (или) реализацией продукции, в том числе | C39: =C40+C41+C42+C43+C44+C45+C47+C46 -> 133740 | D39: =D40+D41+D42+D43+D44+D45+D47+D46 -> 139089.6 | E39: =E40+E41+E42+E43+E44+E45+E47+E46 -> 144653.18 | F39: =F40+F41+F42+F43+F44+F45+F47+F46 -> 150439.31 | G39: =G40+G41+G42+G43+G44+G45+G47+G46 -> 156456.88 | H39: =H40+H41+H42+H43+H44+H45+H47+H46 -> 162715.16
A40: 18.1. | B40: налог на имущество организаций
A41: 18.2. | B41: земельный налог
...

Sheet Лист1
A1: 264.27
A2: 720
A3: 70
A4: 315
A5: 2683.33
A6: 1716.67
A7: 314.47
A8: 240
A9: 539.1
A10: 289.3
A11: 775.2
A12: 54100
... A17: 86.67
A18: 1 193,33
A19: 958.59
A20: 260
A21: 466
A22: 2 537,58
A23: 816.24
A24: 704.5
A25: 3 975,00
A26: 369.92
A27: 39 191,77
A28: 40 166,67
A29: 29 321,67
A30: 333.33
A31: 26 535,00
A33: 200.28
A34: 4 416,67
A35: 246.67
A36: 302.83
A37: 160
A38: 707.5
A39: 334.17
A40: 781.43
A41: 3 205,00
A42: 4333.33
A43: 19316.67
A44: 553.33
A45: 845.62
...

Sheet Смета, Таблица 5.1 передача
A1: В том числе затраты на передачу тепловой энергии.
A2: Приложение 1
A4: Смета расходов (метод экономически обоснованных расходов (затрат))
A5: руб.
A6: N п/п | B6: Показатели | C6: Факт 2021 г. | D6: Период регулирования 2023 г. | E6: Период регулирования 2024 г. | F6: Период регулирования 2025 г. | G6: Период регулирования 2026 г. | H6: Период регулирования 2027 г.
A7: 1 | B7: 2 | C7: 3 | D7: 4 | E7: 5 | F7: 6 | G7: 7 | H7: 8
A8: I. | B8: Расходы, связанные с производством и реализацией продукции (услуг), всего | C8: 0 | D8: 0 | E8: 0 | F8: 0 | G8: 0 | H8: 0
A9: 1. | B9: расходы на сырье и материалы
A10: 1.1. | B10: материалы на химводоподготовку
A11: 1.2. | B11: зап-ти, инструмент,вспом.мат-ы
A12: 2. | B12: расходы на топливо
A13: 3. | B13: расходы на прочие покупаемые энергетические ресурсы
A14: 3.1. | B14: технологические цели
A15: 3.2. | B15: хозяйственно-бытовые нужды
A16: 4. | B16: расходы на холодную воду
A17: 4.1. | B17: технологические цели
A18: 4.2. | B18: хозяйственно-бытовые нужды
A19: 5. | B19: расходы на теплоноситель
A20: 6. | B20: амортизация основных средств и нематериальных активов
A21: 7. | B21: оплата труда | C21: 0 | D21: 0 | E21: 0 | F21: 0 | G21: 0 | H21: 0
A22: 7.1. | B22: ОПП
A23: 7.2. | B23: ИТР
A24: 7.3. | B24: ……. | D24: 0 | E24: 0 | F24: 0 | G24: 0 | H24: 0
A25: 8. | B25: отчисления на социальные нужды | C25: 0 | D25: 0 | E25: 0 | F25: 0 | G25: 0 | H25: 0
B26: счет 69
B27: счет 69.11
B28: счет 96
A29: 9. | B29: ремонт основных средств выполняемый подрядным способом
A30: 10. | B30: расходы на оплату услуг, оказываемых организациями, осуществляющими регулируемую деятельность
A31: 10.1. | B31: технологические цели
A32: 10.2. | B32: хозяйственно-бытовые нужды
A33: 11. | B33: расходы на выполнение работ и услуг производственного характера, выполняемых по договорам со сторонними организациями или индивидуальными предпринимателями
A34: 12. | B34: расходы на оплату иных работ и услуг, выполняемых по договорам с организациями, включая расходы на оплату услуг связи, вневедомственной охраны, коммунальных услуг, юридических, информационных, аудиторских и консультационных услуг
A35: 13. | B35: плата за выбросы и сбросы загрязняющих веществ в окружающую среду, размещение отходов и другие виды негативного воздействия на окружающую среду в пределах установленных нормативов и (или) лимитов
A36: 14. | B36: арендная плата, концессионная плата, лизинговые платежи
A37: 15. | B37: расходы на служебные командировки
A38: 16. | B38: расходы на обучение персонала
A39: 17. | B39: расходы на страхование производственных объектов, учитываемые при определении налоговой базы по налогу на прибыль
A40: 18. | B40: другие расходы, связанные с производством и (или) реализацией продукции, в том числе
... A61: V. | B61: Выпадающие доходы/экономия средств
...

Sheet Смета, Таблица 5.1 сбыт
A1: В том числе затраты на сбыт тепловой энергии.
A2: Приложение 5.1
A4: Смета расходов (метод экономически обоснованных расходов (затрат))
A5: руб.
A6: N п/п | B6: Показатели | C6: Факт 2022 г. | D6: Период регулирования 2024г. | E6: Период регулирования 2025 г. | F6: Период регулирования 2026 г. | G6: Период регулирования 2027 г. | H6: Период регулирования 2028г.
A7: 1 | B7: 2 | C7: 3 | D7: 4 | E7: 5 | F7: 6 | G7: 7 | H7: 8
A8: I. | B8: Расходы, связанные с производством и реализацией продукции (услуг), всего | C8: =C9+C12+C13+C16+C20+C21+C25+C29+C30+C33+C34+C35+C36+C37+C38+C39+C40+C28 -> 102905 | D8: =D9+D12+D13+D16+D20+D21+D25+D29+D30+D33+D34+D35+D36+D37+D38+D39+D40+D28 -> 107021.2 | E8: =E9+E12+E13+E16+E20+E21+E25+E29+E30+E33+E34+E35+E36+E37+E38+E39+E40+E28 -> 111302.05 | F8: =F9+F12+F13+F16+F20+F21+F25+F29+F30+F33+F34+F35+F36+F37+F38+F39+F40+F28 -> 115754.13 | G8: =G9+G12+G13+G16+G20+G21+G25+G29+G30+G33+G34+G35+G36+G37+G38+G39+G40+G28 -> 120384.3 | H8: =H9+H12+H13+H16+H20+H21+H25+H29+H30+H33+H34+H35+H36+H37+H38+H39+H40 -> 125199.67
A9: 1. | B9: расходы на сырье и материалы | C9: =C10+C11 -> 0 | D9: =D10+D11 -> 0 | E9: =E10+E11 -> 0 | F9: =F10+F11 -> 0 | G9: =G10+G11 -> 0 | H9: =H10+H11 -> 0
A10: 1.1. | B10: материалы на химводоподготовку
A11: 1.2. | B11: зап-ти, инструмент,вспом.мат-ы
A12: 2. | B12: расходы на топливо | C12: 0 | D12: 0 | E12: 0 | F12: 0 | G12: 0 | H12: 0
A13: 3. | B13: расходы на прочие покупаемые энергетические ресурсы | C13: 0 | D13: 0 | E13: =D13*1.05 -> 0 | F13: =E13*1.05 -> 0 | G13: =F13*1.05 -> 0 | H13: =G13*1.05 -> 0
A14: 3.1. | B14: технологические цели | D14: 0 | E14: 0 | F14: 0 | G14: 0 | H14: 0
A15: 3.2. | B15: хозяйственно-бытовые нужды | D15: 0 | E15: 0 | F15: 0 | G15: 0 | H15: 0
A16: 4. | B16: расходы на холодную воду | C16: 0 | D16: 0 | E16: 0 | F16: 0 | G16: 0 | H16: 0
A17: 4.1. | B17: технологические цели | D17: 0 | E17: 0 | F17: 0 | G17: 0 | H17: 0
A18: 4.2. | B18: хозяйственно-бытовые нужды | D18: 0 | E18: 0 | F18: 0 | G18: 0 | H18: 0
A19: 5. | B19: расходы на теплоноситель | C19: 0 | D19: 0 | E19: 0 | F19: 0 | G19: 0 | H19: 0
A20: 6. | B20: амортизация основных средств и нематериальных активов | C20: 0 | D20: 0 | E20: 0 | F20: 0 | G20: 0 | H20: 0
A21: 7. | B21: оплата труда | C21: 0 | D21: 0 | E21: 0 | F21: 0 | G21: 0 | H21: 0
A22: 7.1. | B22: ППП | C22: 0 | D22: 0 | E22: 0 | F22: 0 | G22: 0 | H22: 0
A23: 7.2. | B23: ИТР | C23: 0 | D23: 0 | E23: 0 | F23: 0 | G23: 0 | H23: 0
A24: 7.3. | B24: ……. | D24: 0 | E24: 0 | F24: 0 | G24: 0 | H24: 0
A25: 8. | B25: отчисления на социальные нужды | C25: 0 | D25: 0 | E25: 0 | F25: 0 | G25: 0 | H25: 0
B26: счет 69 | C26: 0 | D26: 0 | E26: 0 | F26: 0 | G26: 0 | H26: 0
B27: счет 69.11 | C27: 0 | D27: 0 | E27: 0 | F27: 0 | G27: 0 | H27: 0
B28: Счет 96 | C28: 0 | D28: 0 | E28: 0 | F28: 0 | G28: 0 | H28: 0
A29: 9. | B29: ремонт основных средств выполняемый подрядным способом
A30: 10. | B30: расходы на оплату услуг, оказываемых организациями, осуществляющими регулируемую деятельность | C30: 0 | D30: 0 | E30: 0 | F30: 0 | G30: 0 | H30: 0
A31: 10.1. | B31: технологические цели | C31: 0 | D31: 0 | E31: 0 | F31: 0 | G31: 0 | H31: 0
A32: 10.2. | B32: хозяйственно-бытовые нужды | C32: 0 | D32: 0 | E32: 0 | F32: 0 | G32: 0 | H32: 0
A33: 11. | B33: расходы на выполнение работ и услуг производственного характера, выполняемых по договорам со сторонними организациями или индивидуальными предпринимателями | C33: 0 | D33: 0 | E33: 0 | F33: 0 | G33: 0 | H33: 0
A34: 12. | B34: расходы на оплату иных работ и услуг, выполняемых по договорам с организациями, включая расходы на оплату услуг связи, вневедомственной охраны, коммунальных услуг, юридических, информационных, аудиторских и консультационных услуг | C34: 0 | D34: 0 | E34: 0 | F34: 0 | G34: 0 | H34: 0
A35: 13. | B35: плата за выбросы и сбросы загрязняющих веществ в окружающую среду, размещение отходов и другие виды негативного воздействия на окружающую среду в пределах установленных нормативов и (или) лимитов | C35: 0 | D35: 0 | E35: 0 | F35: 0 | G35: 0 | H35: 0
A36: 14. | B36: арендная плата, концессионная плата, лизинговые платежи | C36: 0 | D36: 0 | E36: 0 | F36: 0 | G36: 0 | H36: 0
A37: 15. | B37: расходы на служебные командировки | C37: 0 | D37: 0 | E37: 0 | F37: 0 | G37: 0 | H37: 0
A38: 16. | B38: расходы на обучение персонала | C38: 0 | D38: 0 | E38: 0 | F38: 0 | G38: 0 | H38: 0
A39: 17. | B39: расходы на страхование производственных объектов, учитываемые при определении налоговой базы по налогу на прибыль | C39: 0 | D39: 0 | E39: 0 | F39: 0 | G39: 0 | H39: 0
A40: 18. | B40: другие расходы, связанные с производством и (или) реализацией продукции, в том числе | C40: =C46 -> 102905 | D40: =D46 -> 107021.2 | E40: =E46 -> 111302.05 | F40: =F46 -> 115754.13 | G40: =G46 -> 120384.3 | H40: =H46 -> 125199.67
A41: 18.1. | B41: налог на имущество организаций
...

Sheet Таблица 5.2
A1: Приложение 5.2
A4: Расчет операционных (подконтрольных) расходов
A5: на каждый год долгосрочного периода регулирования
A7: N | B7: Параметры расчета расходов | C7: Единица измерения | D7: Долгосрочный период регулирования
A8: п.п. | D8: Год 2022 | E8: Год 2024 | F8: Год 2025 | G8: Год 2026 | H8: Год 2027 | I8: Год 2028
A9: 1 | B9: 2 | C9: 3 | D9: 4 | E9: 5 | F9: 6 | G9: 7 | H9: 8 | I9: 9
A10: 1. | B10: Индекс потребительских цен на расчетный период регулирования (ИПЦ) | D10: 1.04 | E10: 1.04 | F10: 1.04 | G10: 1.04 | H10: 1.04 | I10: 1.04
A11: 2. | B11: Индекс эффективности операционных расходов (ИР) | C11: %
A12: 3. | B12: Индекс изменения количества активов (ИКА) | D12: 1 | E12: 1 | F12: 1 | G12: 1 | H12: 1 | I12: 1
A13: 3.1. | B13: количество условных единиц, относящихся к активам, необходимым для осуществления регулируемой деятельности | C13: у.е. | D13: 22.6 | E13: 22.6 | F13: 22.6 | G13: 22.6 | H13: 22.6 | I13: 22.6
A14: 3.2. | B14: установленная тепловая мощность источника тепловой энергии | C14: Гкал/ч | D14: 2.2 | E14: 2.2 | F14: 2.2 | G14: 2.2 | H14: 2.2 | I14: 2.2
A15: 4. | B15: Коэффициент эластичности затрат по росту активов (Кэл)
A16: 5. | B16: Операционные (подконтрольные) расходы | C16: тыс.руб. | D16: ='Смета, Таблица 5.1'!C98/1000 -> 17069.449 | E16: ='Смета, Таблица 5.1'!D98/1000 -> 17891.568 | F16: ='Смета, Таблица 5.1'!E98/1000 -> 18753.538 | G16: ='Смета, Таблица 5.1'!F98/1000 -> 19657.303 | H16: ='Смета, Таблица 5.1'!G98/1000 -> 20604.899 | I16: ='Смета, Таблица 5.1'!H98/1000 -> 21598.465
B22: ='Таблица 4.3'!B29 -> Бухгалтер | D22: ='Таблица 4.3'!P29 -> Сергеева Д.М.
A30: Примечания:
A31: 1. Год i0 - первый год долгосрочного периода регулирования, год i1 - последний год долгосрочного периода регулирования.
A32: 2. Строка 3 заполняется в соответствии с пунктом 38 настоящих Методических указаний; строка 3.1 – для организаций, осуществляющих деятельность по передаче тепловой энергии и теплоносителя, в соответствии с приложением 2 к настоящим Методическим указаниям; строка 3.2 – для организаций, осуществляющих деятельность по производству тепловой энергии (мощности), с учетом инвестиционной программы регулируемой организации на соответствующий год.
A33: 3. Ст. 5 гр. 4 заполняется по данным таблицы приложения 5.1 к настоящим Методическим указаниям.
A34: 4. Гр. 5 – n заполняются расчетно, как значение операционных (неподконтрольных) расходов в предыдущей графе, умноженное на соответствующие индексы текущего года, указанные в строках 1 – 4.

Sheet Таблица 5.3
A1: Приложение 5.3
A5: Реестр неподконтрольных расходов
H6: тыс.руб.
A7: тыс. руб.
C8: Год 2022
A9: N п.п. | B9: Наименование расхода | C9: фактически понесенные расходы в 2022 году по данным организации | D9: прогноз расходов на год 2024 по данным организации | E9: прогноз расходов на год 2025 по данным организации | F9: прогноз расходов на год 2026 по данным организации | G9: прогноз расходов на год 2027 по данным организации | H9: прогноз расходов на год 2028 по данным организации
A10: 1 | B10: 2 | C10: 3 | D10: 4 | E10: 5 | F10: 6 | G10: 7 | H10: 8
A11: 1.1. | B11: Расходы на оплату услуг, оказываемых организациями, осуществляющими регулируемые виды деятельности
A12: 1.2. | B12: Арендная плата
A13: 1.3. | B13: Концессионная плата
A14: 1.4. | B14: Расходы на уплату налогов, сборов и других обязательных платежей, в том числе: | C14: =C16+C17 -> 7.5 | D14: =D16+D17 -> 7.8 | E14: =E16+E17 -> 8.112 | F14: =F16+F17 -> 8.43648 | G14: =G16+G17 -> 8.7739392 | H14: =H16+H17 -> 9.1248968
A15: 1.4.1. | B15: плата за выбросы и сбросы загрязняющих веществ в окружающую среду, размещение отходов и другие виды негативного воздействия на окружающую среду в пределах установленных нормативов и (или) лимитов
A16: 1.4.2. | B16: расходы на обязательное страхование | C16: ='Смета, Таблица 5.1'!C38/1000 -> 7.5 | D16: ='Смета, Таблица 5.1'!D38/1000 -> 7.8 | E16: ='Смета, Таблица 5.1'!E38/1000 -> 8.112 | F16: ='Смета, Таблица 5.1'!F38/1000 -> 8.43648 | G16: ='Смета, Таблица 5.1'!G38/1000 -> 8.7739392 | H16: ='Смета, Таблица 5.1'!H38/1000 -> 9.1248968
A17: 1.4.3. | B17: иные расходы
A18: 1.5. | B18: Отчисления на социальные нужды | C18: ='Смета, Таблица 5.1'!C24/1000 -> 1334.3614 | D18: ='Смета, Таблица 5.1'!D24/1000 -> 1387.7359 | E18: ='Смета, Таблица 5.1'!E24/1000 -> 1443.2453 | F18: ='Смета, Таблица 5.1'!F24/1000 -> 1500.9751 | G18: ='Смета, Таблица 5.1'!G24/1000 -> 1561.0142 | H18: ='Смета, Таблица 5.1'!H24/1000 -> 1623.4547
A19: 1.6. | B19: Расходы по сомнительным долгам
A20: 1.7. | B20: Амортизация основных средств и нематериальных активов | C20: ='Смета, Таблица 5.1'!C19/1000 -> 106.595 | D20: ='Смета, Таблица 5.1'!D19/1000 -> 90.60575 | E20: ='Смета, Таблица 5.1'!E19/1000 -> 77.014888 | F20: ='Смета, Таблица 5.1'!F19/1000 -> 65.462654 | G20: ='Смета, Таблица 5.1'!G19/1000 -> 55.643256 | H20: ='Смета, Таблица 5.1'!H19/1000 -> 47.296768
A21: 1.8. | B21: Расходы на выплаты по договорам займа и кредитным договорам, включая проценты по ним
B22: ИТОГО | C22: =C20+C18+C16 -> 1448.4564 | D22: =D20+D18+D16 -> 1486.1416 | E22: =E20+E18+E16 -> 1528.3722 | F22: =F20+F18+F16 -> 1574.8743 | G22: =G20+G18+G16 -> 1625.4313 | H22: =H20+H18+H16 -> 1679.8764
A23: 2. | B23: Налог на прибыль
A24: 3. | B24: Экономия, определенная в прошедшем долгосрочном периоде регулирования и подлежащая учету в текущем долгосрочном периоде регулирования
A25: 4. | B25: Итого неподконтрольных расходов | C25: =C11+C14+C18+C19+C20+C21+C23+C24 -> 1448.4564 | D25: =D11+D14+D18+D19+D20+D21+D23+D24 -> 1486.1416 | E25: =E11+E14+E18+E19+E20+E21+E23+E24 -> 1528.3722 | F25: =F11+F14+F18+F19+F20+F21+F23+F24 -> 1574.8743 | G25: =G11+G14+G18+G19+G20+G21+G23+G24 -> 1625.4313 | H25: =H11+H14+H18+H19+H20+H21+H23+H24 -> 1679.8764
B27: ='Таблица 4.3'!B29 -> Бухгалтер | E27: ='Таблица 4.3'!P29 -> Сергеева Д.М.
A34: Примечания:
A35: 1. Год i0 - первый год долгосрочного периода регулирования, год i1 - последний год долгосрочного периода регулирования.
